BEGIN:VCALENDAR
VERSION:2.0
PRODID:-//Tulsa Pipe Trades Training School - ECPv6.5.0//NONSGML v1.0//EN
CALSCALE:GREGORIAN
METHOD:PUBLISH
X-WR-CALNAME:Tulsa Pipe Trades Training School
X-ORIGINAL-URL:https://tulsapipetrades.org
X-WR-CALDESC:Events for Tulsa Pipe Trades Training School
REFRESH-INTERVAL;VALUE=DURATION:PT1H
X-Robots-Tag:noindex
X-PUBLISHED-TTL:PT1H
BEGIN:VTIMEZONE
TZID:America/Chicago
BEGIN:DAYLIGHT
TZOFFSETFROM:-0600
TZOFFSETTO:-0500
TZNAME:CDT
DTSTART:20260308T080000
END:DAYLIGHT
BEGIN:STANDARD
TZOFFSETFROM:-0500
TZOFFSETTO:-0600
TZNAME:CST
DTSTART:20261101T070000
END:STANDARD
END:VTIMEZONE
BEGIN:VEVENT
DTSTART;TZID=America/Chicago:20260502T073000
DTEND;TZID=America/Chicago:20260502T143000
DTSTAMP:20260419T151218
CREATED:20260108T174227Z
LAST-MODIFIED:20260108T174227Z
UID:2123-1777707000-1777732200@tulsapipetrades.org
SUMMARY:Plumbing and Mechanical Oklahoma state license CEU
DESCRIPTION:There will be a separate plumbing and mechanical continuing education class held on this day for local 430 members in need of CEU hours required by the CIB. There is no need to sign up for these classes.
URL:https://tulsapipetrades.org/event/plumbing-and-mechanical-oklahoma-state-license-ceu-2/
LOCATION:Tulsa Pipe Trades Training School\, 8602 E 46th St\, Tulsa\, OK\, 74145\, United States
ORGANIZER;CN="Johnny Bennett":MAILTO:jbennett3@uanet.org
END:VEVENT
BEGIN:VEVENT
DTSTART;TZID=America/Chicago:20260801T073000
DTEND;TZID=America/Chicago:20260801T143000
DTSTAMP:20260419T151218
CREATED:20260108T174723Z
LAST-MODIFIED:20260108T174723Z
UID:2125-1785569400-1785594600@tulsapipetrades.org
SUMMARY:Plumbing and Mechanical Oklahoma state license CEU
DESCRIPTION:There will be a separate plumbing and mechanical continuing education class held on this day for local 430 members in need of CEU hours required by the CIB. There is no need to sign up for these classes.
URL:https://tulsapipetrades.org/event/plumbing-and-mechanical-oklahoma-state-license-ceu-3/
LOCATION:Tulsa Pipe Trades Training School\, 8602 E 46th St\, Tulsa\, OK\, 74145\, United States
ORGANIZER;CN="Johnny Bennett":MAILTO:jbennett3@uanet.org
END:VEVENT
BEGIN:VEVENT
DTSTART;TZID=America/Chicago:20261114T073000
DTEND;TZID=America/Chicago:20261114T143000
DTSTAMP:20260419T151218
CREATED:20260108T174903Z
LAST-MODIFIED:20260108T174903Z
UID:2127-1794641400-1794666600@tulsapipetrades.org
SUMMARY:Plumbing and Mechanical Oklahoma state license CEU
DESCRIPTION:There will be a separate plumbing and mechanical continuing education class held on this day for local 430 members in need of CEU hours required by the CIB. There is no need to sign up for these classes.
URL:https://tulsapipetrades.org/event/plumbing-and-mechanical-oklahoma-state-license-ceu-4/
LOCATION:Tulsa Pipe Trades Training School\, 8602 E 46th St\, Tulsa\, OK\, 74145\, United States
ORGANIZER;CN="Johnny Bennett":MAILTO:jbennett3@uanet.org
END:VEVENT
END:VCALENDAR